BEGIN:VCALENDAR
VERSION:2.0
PRODID:-//wp-events-plugin.com//7.2.3.1//EN
BEGIN:VEVENT
UID:73@le38.be
DTSTART:20260502T080000Z
DTEND:20260531T160000Z
DTSTAMP:20260416T130002Z
URL:https://le38.be/l-agenda/parcours-dart-en-plein-air/
SUMMARY:Parcours d'art en plein air
DESCRIPTION:​​ Chaque année\, le 38 et le GAL Pays des 4 Bras\, à tra
 vers le projet CLAC\, soutiennent des projets culturels sur le territoire 
 des 4 Bras ​​\n\n​ Dans ce contexte\, le Collectif d'artistes plasti
 ciens Ars Natura Eco-Land art propose à la visite un Sentier en Eco-Land 
 art dans le Parc de la Dyle\, situé à Genappe centre.\n\n​ L'Eco-Land 
 art est un art éphémère qui utilise principalement des matériaux issus
  de la nature.\n\nLes artistes présents vous proposent de venir voir les 
 œuvres qu'ils auront réalisées selon cette technique artistique spécif
 ique tout au long de ce Sentier. Leurs travaux pourront être visitable du
  samedi 2 mai au dimanche 31 mai.\n\nLes artistes présents seront :\n​ 
 Serge Bastin / eSBe​ Cathy Bonfond​ Olivier cinq​ Sophie Dandoy​ A
 urore Jacques ​ Kami*Ki​ Zuzana Polohová​ Polux​ Corinne Populair
 e​ Claire VAN DONGEN\n\n​​ 𝗩𝗶𝘀𝗶𝘁𝗲 𝗴𝘂𝗶𝗱
 𝗲́𝗲 𝗽𝗮𝗿 𝗹𝗲𝘀 𝗮𝗿𝘁𝗶𝘀𝘁𝗲𝘀 : sa
 medi 9 mai à 15h. RDV à l'entrée du Monty rue de Charleroi\, 58 à Gena
 ppe (Gratuit - réservation ci-dessous).\n\n​ 𝟮 𝗯𝗮𝗹𝗮𝗱
 𝗲𝘀 𝗴𝘂𝗶𝗱𝗲́𝗲 𝗳𝗮𝗺𝗶𝗹𝗹𝗲 𝗺𝗲
 𝗻𝗲́𝗲 𝗽𝗮𝗿 𝗹𝗲 𝟯𝟴 : dimanche 10 mai\, à 14h00
  et 15h30 (durée 45'). Rendez-vous devant le Monty.  (Gratuit - réservat
 ion ci-dessous).\n\n​ Durant toute la période de l'exposition\, un plan
  sera disponible au 38 et au Monty pour vous orienter. Il reprend des info
 rmations sur les installations réalisées par les artistes.\n\n​ Du 2 a
 u 31 mai\, expo de photos documentaires sur le travail du Collectif de ces
  4 dernières années au Monty.\n\nAttention: le sentier n'est pas accessi
 ble au PMR.
ATTACH;FMTTYPE=image/jpeg:https://le38.be/wp-content/uploads/2026/04/Copie
 -de-Evenement-Festival-Cinema-Banniere-Facebook-Colore-Moderne-e1776184683
 303.png
END:VEVENT
END:VCALENDAR